BEGIN:VCALENDAR
VERSION:2.0
PRODID:-//Polski Związek Łuczniczy - ECPv6.15.20//NONSGML v1.0//EN
CALSCALE:GREGORIAN
METHOD:PUBLISH
X-WR-CALNAME:Polski Związek Łuczniczy
X-ORIGINAL-URL:https://archery.pl
X-WR-CALDESC:Wydarzenia dla Polski Związek Łuczniczy
REFRESH-INTERVAL;VALUE=DURATION:PT1H
X-Robots-Tag:noindex
X-PUBLISHED-TTL:PT1H
BEGIN:VTIMEZONE
TZID:Europe/Helsinki
BEGIN:DAYLIGHT
TZOFFSETFROM:+0200
TZOFFSETTO:+0300
TZNAME:EEST
DTSTART:20250330T010000
END:DAYLIGHT
BEGIN:STANDARD
TZOFFSETFROM:+0300
TZOFFSETTO:+0200
TZNAME:EET
DTSTART:20251026T010000
END:STANDARD
BEGIN:DAYLIGHT
TZOFFSETFROM:+0200
TZOFFSETTO:+0300
TZNAME:EEST
DTSTART:20260329T010000
END:DAYLIGHT
BEGIN:STANDARD
TZOFFSETFROM:+0300
TZOFFSETTO:+0200
TZNAME:EET
DTSTART:20261025T010000
END:STANDARD
BEGIN:DAYLIGHT
TZOFFSETFROM:+0200
TZOFFSETTO:+0300
TZNAME:EEST
DTSTART:20270328T010000
END:DAYLIGHT
BEGIN:STANDARD
TZOFFSETFROM:+0300
TZOFFSETTO:+0200
TZNAME:EET
DTSTART:20271031T010000
END:STANDARD
END:VTIMEZONE
BEGIN:VEVENT
DTSTART;TZID=Europe/Helsinki:20260422T080000
DTEND;TZID=Europe/Helsinki:20260425T170000
DTSTAMP:20260424T124744
CREATED:20260420T153104Z
LAST-MODIFIED:20260420T153104Z
UID:16969-1776844800-1777136400@archery.pl
SUMMARY:Puchar
DESCRIPTION:
URL:https://archery.pl/event/puchar/
LOCATION:Warszawa\, Mazowieckie\, Poland
END:VEVENT
END:VCALENDAR